BEGIN:VCALENDAR
VERSION:2.0
BEGIN:VEVENT
URL:http://spilburg.de/index.php/spilburger/events/viewevent/4-uebernahme-der-heilpraktikerpraxis-heidemarie-krix-im-gewerbegebiet-spilburg-in-wetzlar 
DTSTART:20190401T080000
DTEND:20190401T081500
SUMMARY:Übernahme der Heilpraktikerpraxis Heidemarie Krix im Gewerbegebiet Spilburg in Wetzlar.
DESCRIPTION:<p>Übernahme der Heilpraktikerpraxis Heidemarie Krix im Gewerbegebiet Spilburg in Wetzlar.</p>
LOCATION:Steinbühlstraße 17, 35578 Wetzlar
END:VEVENT
END:VCALENDAR